BEGIN:VCALENDAR
VERSION:2.0
PRODID:-//Trawler-Calendar-Tool 0.2
METHOD:PUBLISH
BEGIN:VTIMEZONE
TZID:Europe/Berlin
BEGIN:STANDARD
TZNAME:CET
DTSTART:20100101T010000
RRULE:FREQ=YEARLY;BYDAY=-1SU;BYMONTH=10
TZOFFSETFROM:+0200
TZOFFSETTO:+0100
END:STANDARD
BEGIN:DAYLIGHT
TZNAME:CEST
DTSTART:20100101T010000
RRULE:FREQ=YEARLY;BYDAY=-1SU;BYMONTH=3
TZOFFSETFROM:+0100
TZOFFSETTO:+0200
END:DAYLIGHT
END:VTIMEZONE
X-WR-TIMEZONE:Europe/Berlin
X-ORIGINAL-URL:https://www.spd-tuttlingen.de/termine/
BEGIN:VEVENT
DTSTART;TZID=Europe/Berlin:20260627T110000
DTEND;TZID=Europe/Berlin:20260627T140000
LOCATION:Felsen\, Stuttgarter Str. 8\, Tuttlingen
SUMMARY:Kommunalpolitisches Forum
DESCRIPTION:Details folgen.
 Kandidierende zur Kommunalwahl 2024 erhalten
   eine Einladung.
X-ALT-DESC;FMTTYPE=text/plain:Details folgen.
 Kandidierende zur Kommunalwahl 2024 erhalten
   eine Einladung.
PRIORITY:5
UID:wscms192788-tuttlgnov-0bcd8cd1d351cea3fb74e3bf447da139
URL:https://www.spd-tuttlingen.de/calendar192788.ics
END:VEVENT
END:VCALENDAR