BEGIN:VCALENDAR
VERSION:2.0
PRODID:-//Trawler-Calendar-Tool 0.2
METHOD:PUBLISH
BEGIN:VTIMEZONE
TZID:Europe/Berlin
BEGIN:STANDARD
TZNAME:CET
DTSTART:20100101T010000
RRULE:FREQ=YEARLY;BYDAY=-1SU;BYMONTH=10
TZOFFSETFROM:+0200
TZOFFSETTO:+0100
END:STANDARD
BEGIN:DAYLIGHT
TZNAME:CEST
DTSTART:20100101T010000
RRULE:FREQ=YEARLY;BYDAY=-1SU;BYMONTH=3
TZOFFSETFROM:+0100
TZOFFSETTO:+0200
END:DAYLIGHT
END:VTIMEZONE
X-WR-TIMEZONE:Europe/Berlin
X-ORIGINAL-URL:https://www.spd-tuttlingen.de/termine/
BEGIN:VEVENT
DTSTART;TZID=Europe/Berlin:20260501T160000
LOCATION:tbd
SUMMARY:SPD-Stammtisch
DESCRIPTION:Interessierte sind jederzeit herzlich
   willkommen.
 
 Ausnahmsweise treffen wir uns schon um 16:00
   Uhr
 
 Treffpunkt folgt.
X-ALT-DESC;FMTTYPE=text/plain:Interessierte sind jederzeit herzlich
   willkommen.
 
 Ausnahmsweise treffen wir uns schon um 16:00
   Uhr
 
 Treffpunkt folgt.
PRIORITY:5
UID:wscms192739-tuttlgnov-0bcd8cd1d351cea3fb74e3bf447da139
URL:https://www.spd-tuttlingen.de/calendar192739.ics
END:VEVENT
END:VCALENDAR